BEGIN:VCALENDAR
CALSCALE:GREGORIAN
X-WR-TIMEZONE;VALUE=TEXT:GMT
PRODID:PEAK Corporation - piCal -
X-WR-CALNAME;VALUE=TEXT:
VERSION:2.0
METHOD:PUBLISH
BEGIN:VTIMEZONE
TZID:GMT
BEGIN:STANDARD
DTSTART:19390101T000000
TZOFFSETFROM:+0000
TZOFFSETTO:+0000
TZNAME:GMT
END:STANDARD
END:VTIMEZONE
BEGIN:VEVENT
DTSTART:20121114T100000Z
DTEND:20121114T120000Z
LOCATION:四ツ谷センタービル県人クラブ内会議室or１Fロビー
TRANSP:OPAQUE
SEQUENCE:0
UID:pical060-69dcffe7da1da3e312e79867ab070a47
DTSTAMP:20121103T220950Z
CATEGORIES:
DESCRIPTION:石堂さん、宮本さん、坂本さん、澤村さん、甲斐さん、\n宮崎さん、磯さん、森林さん、山崎さん、池末さん、一ノ瀬さん\n岩永さん\n執行部各位\n堀内です。\n\n掲題の件、第39回総会の反省会を兼ねて第6回常任幹事会を\n以下の通り開催しますので出席願います。\n\n日時：2012/11/14(水)19時?20時半\n場所：四ツ谷センタービル県人クラブ内会議室\n　　　※県人クラブ内会議室が取れなければ、1階ロビーの\n　　　　ミーティングスペースで行います。　　\n内容：\n1.第39回総会の反省会\n各自反省メモを作成して15部用意の上、参加願います。\n\n2.第7回全体幹事会に向けた準備\n・第39回総会参加者報告\n・暫定決算報告\n\n出欠の連絡：必要(堀内宛）\n　　　　　　<a href="mailto:horiuchi@bc.jp.nec.com">horiuchi@bc.jp.nec.com</a>、　\n\n以上\n
SUMMARY:第6回常任幹事会
PRIORITY:0
CLASS:PUBLIC
END:VEVENT
END:VCALENDAR
