BEGIN:VCALENDAR
CALSCALE:GREGORIAN
X-WR-TIMEZONE;VALUE=TEXT:GMT
PRODID:PEAK Corporation - piCal -
X-WR-CALNAME;VALUE=TEXT:
VERSION:2.0
METHOD:PUBLISH
BEGIN:VTIMEZONE
TZID:GMT
BEGIN:STANDARD
DTSTART:19390101T000000
TZOFFSETFROM:+0000
TZOFFSETTO:+0000
TZNAME:GMT
END:STANDARD
END:VTIMEZONE
BEGIN:VEVENT
DTSTART:20121101T023000Z
DTEND:20121101T032000Z
LOCATION:本校第２体育館
TRANSP:OPAQUE
SEQUENCE:1
UID:pical060-dd18f50f38f9393e76b4ea740609a7d4
DTSTAMP:20121030T155221Z
CATEGORIES:
DESCRIPTION:在京からは出席なし
SUMMARY:長崎西高第２体育館お別れ式
PRIORITY:0
CLASS:PUBLIC
END:VEVENT
END:VCALENDAR
