BEGIN:VCALENDAR
CALSCALE:GREGORIAN
X-WR-TIMEZONE;VALUE=TEXT:GMT
PRODID:PEAK Corporation - piCal -
X-WR-CALNAME;VALUE=TEXT:
VERSION:2.0
METHOD:PUBLISH
BEGIN:VTIMEZONE
TZID:GMT
BEGIN:STANDARD
DTSTART:19390101T000000
TZOFFSETFROM:+0000
TZOFFSETTO:+0000
TZNAME:GMT
END:STANDARD
END:VTIMEZONE
BEGIN:VEVENT
DTSTART:20121110T060000Z
DTEND:20121110T100000Z
LOCATION:須賀神社?出島厨房
TRANSP:OPAQUE
SEQUENCE:0
UID:pical060-0037eb686792551ded930e589c807f59
DTSTAMP:20121022T175443Z
CATEGORIES:
DESCRIPTION:
SUMMARY:新龍お披露目の儀　須賀神社?出島厨房
PRIORITY:0
CLASS:PUBLIC
END:VEVENT
END:VCALENDAR
