BEGIN:VCALENDAR
CALSCALE:GREGORIAN
X-WR-TIMEZONE;VALUE=TEXT:GMT
PRODID:PEAK Corporation - piCal -
X-WR-CALNAME;VALUE=TEXT:
VERSION:2.0
METHOD:PUBLISH
BEGIN:VTIMEZONE
TZID:GMT
BEGIN:STANDARD
DTSTART:19390101T000000
TZOFFSETFROM:+0000
TZOFFSETTO:+0000
TZNAME:GMT
END:STANDARD
END:VTIMEZONE
BEGIN:VEVENT
DTSTART:20121103T032500Z
DTEND:20121103T060000Z
LOCATION:四谷駅徒歩１分：スクワール麹町　５F　芙蓉の間
TRANSP:OPAQUE
SEQUENCE:1
UID:pical060-5b3714f4c72fda463a2bbe0b1fbfe9be
DTSTAMP:20121007T120847Z
CATEGORIES:
DESCRIPTION:森副会長出席予定
SUMMARY:第３３回長崎工業関東支部同窓会　総会
PRIORITY:0
CLASS:PUBLIC
END:VEVENT
END:VCALENDAR
