BEGIN:VCALENDAR
CALSCALE:GREGORIAN
X-WR-TIMEZONE;VALUE=TEXT:GMT
PRODID:PEAK Corporation - piCal -
X-WR-CALNAME;VALUE=TEXT:
VERSION:2.0
METHOD:PUBLISH
BEGIN:VTIMEZONE
TZID:GMT
BEGIN:STANDARD
DTSTART:19390101T000000
TZOFFSETFROM:+0000
TZOFFSETTO:+0000
TZNAME:GMT
END:STANDARD
END:VTIMEZONE
BEGIN:VEVENT
DTSTART:20121013T040000Z
DTEND:20121013T080000Z
LOCATION:友重さんの杉並の会社
TRANSP:OPAQUE
SEQUENCE:2
UID:pical060-e8ef62e23af9dc8488ef2dd37595b819
DTSTAMP:20121006T212805Z
CATEGORIES:
DESCRIPTION:〒166-0012\n杉並区和田1-5-18　アテナビル3F　?シムコ内\nTEL  03-5340-3034\n&lt;iframe width=&quot;425&quot; height=&quot;350&quot; frameborder=&quot;0&quot; scrolling=&quot;no&quot; marginheight=&quot;0&quot; marginwidth=&quot;0&quot; src=&quot;<a href="https://maps.google.co.jp/maps?f=q&amp;source=embed&amp;hl=ja&amp;geocode=&amp;q=Tokyo%E6%9D%89%E4%B8%A6%E5%8C%BA%E5%92%8C%E7%94%B01-5-18&amp;aq=&amp;sll=35.689488,139.691706&amp;sspn=0.559916,1.058807&amp;g=Tokyo&amp;brcurrent=3,0x6018f2ef9dea17ed:0xad923d3d778c5367,0&amp;ie=UTF8&amp;hq=&amp;hnear=%E6%9D%B1%E4%BA%AC%E9%83%BD%E6%9D%89%E4%B8%A6%E5%8C%BA%E5%92%8C%E7%94%B0%EF%BC%91%E4%B8%81%E7%9B%AE%EF%BC%95%E2%88%92%EF%BC%91%EF%BC%98&amp;ll=35.68902,139.663214&amp;spn=0.002187,0.004136&amp;t=m&amp;z=14&amp;layer=c&amp;cbll=35.688912,139.663318&amp;panoid=hX8C4tzktMOq7z4pOKN3bA&amp;cbp=12,339.67,,0,0&amp;output=svembed&quot;&gt;&lt;/iframe&gt;&lt;br" rel="external">https://maps.google.co.jp/maps?f=q&amp;source=embed&amp;hl=ja&amp;geocode=&amp;q=Tokyo%E6%9D%89%E4%B8%A6%E5%8C%BA%E5%92%8C%E7%94%B01-5-18&amp;aq=&amp;sll=35.689488,139.691706&amp;sspn=0.559916,1.058807&amp;g=Tokyo&amp;brcurrent=3,0x6018f2ef9dea17ed:0xad923d3d778c5367,0&amp;ie=UTF8&amp;hq=&amp;hnear=%E6%9D%B1%E4%BA%AC%E9%83%BD%E6%9D%89%E4%B8%A6%E5%8C%BA%E5%92%8C%E7%94%B0%EF%BC%91%E4%B8%81%E7%9B%AE%EF%BC%95%E2%88%92%EF%BC%91%EF%BC%98&amp;ll=35.68902,139.663214&amp;spn=0.002187,0.004136&amp;t=m&amp;z=14&amp;layer=c&amp;cbll=35.688912,139.663318&amp;panoid=hX8C4tzktMOq7z4pOKN3bA&amp;cbp=12,339.67,,0,0&amp;output=svembed&quot;&gt;&lt;/iframe&gt;&lt;br</a> /&gt;&lt;small&gt;&lt;a href=&quot;<a href="https://maps.google.co.jp/maps?f=q&amp;source=embed&amp;hl=ja&amp;geocode=&amp;q=Tokyo%E6%9D%89%E4%B8%A6%E5%8C%BA%E5%92%8C%E7%94%B01-5-18&amp;aq=&amp;sll=35.689488,139.691706&amp;sspn=0.559916,1.058807&amp;g=Tokyo&amp;brcurrent=3,0x6018f2ef9dea17ed:0xad923d3d778c5367,0&amp;ie=UTF8&amp;hq=&amp;hnear=%E6%9D%B1%E4%BA%AC%E9%83%BD%E6%9D%89%E4%B8%A6%E5%8C%BA%E5%92%8C%E7%94%B0%EF%BC%91%E4%B8%81%E7%9B%AE%EF%BC%95%E2%88%92%EF%BC%91%EF%BC%98&amp;ll=35.68902,139.663214&amp;spn=0.002187,0.004136&amp;t=m&amp;z=14&amp;layer=c&amp;cbll=35.688912,139.663318&amp;panoid=hX8C4tzktMOq7z4pOKN3bA&amp;cbp=12,339.67,,0,0&quot;" rel="external">https://maps.google.co.jp/maps?f=q&amp;source=embed&amp;hl=ja&amp;geocode=&amp;q=Tokyo%E6%9D%89%E4%B8%A6%E5%8C%BA%E5%92%8C%E7%94%B01-5-18&amp;aq=&amp;sll=35.689488,139.691706&amp;sspn=0.559916,1.058807&amp;g=Tokyo&amp;brcurrent=3,0x6018f2ef9dea17ed:0xad923d3d778c5367,0&amp;ie=UTF8&amp;hq=&amp;hnear=%E6%9D%B1%E4%BA%AC%E9%83%BD%E6%9D%89%E4%B8%A6%E5%8C%BA%E5%92%8C%E7%94%B0%EF%BC%91%E4%B8%81%E7%9B%AE%EF%BC%95%E2%88%92%EF%BC%91%EF%BC%98&amp;ll=35.68902,139.663214&amp;spn=0.002187,0.004136&amp;t=m&amp;z=14&amp;layer=c&amp;cbll=35.688912,139.663318&amp;panoid=hX8C4tzktMOq7z4pOKN3bA&amp;cbp=12,339.67,,0,0&quot;</a> style=&quot;color:#0000FF;text-align:left&quot;&gt;大きな地図で見る&lt;/a&gt;&lt;/small&gt;
SUMMARY:シナリオ最終読み合わせ及び備品整理
PRIORITY:0
CLASS:PUBLIC
END:VEVENT
END:VCALENDAR
