BEGIN:VCALENDAR
CALSCALE:GREGORIAN
X-WR-TIMEZONE;VALUE=TEXT:GMT
PRODID:PEAK Corporation - piCal -
X-WR-CALNAME;VALUE=TEXT:
VERSION:2.0
METHOD:PUBLISH
BEGIN:VTIMEZONE
TZID:GMT
BEGIN:STANDARD
DTSTART:19390101T000000
TZOFFSETFROM:+0000
TZOFFSETTO:+0000
TZNAME:GMT
END:STANDARD
END:VTIMEZONE
BEGIN:VEVENT
DTSTART:20120920T093000Z
DTEND:20120920T103000Z
LOCATION:ＴＫＰ
TRANSP:OPAQUE
SEQUENCE:0
UID:pical060-565319f02e8a030872f26d83de54adc3
DTSTAMP:20120916T145402Z
CATEGORIES:
DESCRIPTION:東龍会さんと演技可能かどうか当番幹事と確認予定。
SUMMARY:TKP会場下見
PRIORITY:0
CLASS:PUBLIC
END:VEVENT
END:VCALENDAR
