BEGIN:VCALENDAR
CALSCALE:GREGORIAN
X-WR-TIMEZONE;VALUE=TEXT:GMT
PRODID:PEAK Corporation - piCal -
X-WR-CALNAME;VALUE=TEXT:
VERSION:2.0
METHOD:PUBLISH
BEGIN:VTIMEZONE
TZID:GMT
BEGIN:STANDARD
DTSTART:19390101T000000
TZOFFSETFROM:+0000
TZOFFSETTO:+0000
TZNAME:GMT
END:STANDARD
END:VTIMEZONE
BEGIN:VEVENT
DTSTART:20120229T050000Z
DTEND:20120229T060000Z
LOCATION:長崎西高
TRANSP:OPAQUE
SEQUENCE:0
UID:pical060-1fd9b854f8c889af62a9c2b3f5f2c830
DTSTAMP:20120304T004132Z
CATEGORIES:
DESCRIPTION:
SUMMARY:同窓会　入会式
PRIORITY:0
CLASS:PUBLIC
END:VEVENT
END:VCALENDAR
