BEGIN:VCALENDAR
CALSCALE:GREGORIAN
X-WR-TIMEZONE;VALUE=TEXT:GMT
PRODID:PEAK Corporation - piCal -
X-WR-CALNAME;VALUE=TEXT:
VERSION:2.0
METHOD:PUBLISH
BEGIN:VTIMEZONE
TZID:GMT
BEGIN:STANDARD
DTSTART:19390101T000000
TZOFFSETFROM:+0000
TZOFFSETTO:+0000
TZNAME:GMT
END:STANDARD
END:VTIMEZONE
BEGIN:VEVENT
DTSTART:20110618T060000Z
DTEND:20110618T083000Z
LOCATION:オールドマンズアンシオドメOLD MAN’S UN 汐留
TRANSP:OPAQUE
SEQUENCE:3
UID:pical060-eda5b9b1367a7abbbd9fd3cfe1761d1d
DTSTAMP:20110603T133544Z
CATEGORIES:
DESCRIPTION:詳細案内はＴＯＰページメニューの「ピュアエイジクラブ」に掲載してあります。
SUMMARY:ピュアエイジクラブ
PRIORITY:0
CLASS:PUBLIC
END:VEVENT
END:VCALENDAR
