BEGIN:VCALENDAR
CALSCALE:GREGORIAN
X-WR-TIMEZONE;VALUE=TEXT:GMT
PRODID:PEAK Corporation - piCal -
X-WR-CALNAME;VALUE=TEXT:
VERSION:2.0
METHOD:PUBLISH
BEGIN:VTIMEZONE
TZID:GMT
BEGIN:STANDARD
DTSTART:19390101T000000
TZOFFSETFROM:+0000
TZOFFSETTO:+0000
TZNAME:GMT
END:STANDARD
END:VTIMEZONE
BEGIN:VEVENT
DTSTART:20110923T060000Z
DTEND:20110923T080000Z
LOCATION:ANAインターコンチネンタルホテル東京(赤坂）
TRANSP:OPAQUE
SEQUENCE:0
UID:pical060-e3288c0132e9e4295837f1f78a1ff750
DTSTAMP:20110603T124131Z
CATEGORIES:
DESCRIPTION:ANAインターコンチネンタルホテル東京ホームページ\<a href="nhttp://www.anaintercontinental-tokyo.jp/index.html" rel="external">nhttp://www.anaintercontinental-tokyo.jp/index.html</a>
SUMMARY:第３８回総会・懇親会
PRIORITY:0
CLASS:PUBLIC
END:VEVENT
END:VCALENDAR
