BEGIN:VCALENDAR
CALSCALE:GREGORIAN
X-WR-TIMEZONE;VALUE=TEXT:GMT
PRODID:PEAK Corporation - piCal -
X-WR-CALNAME;VALUE=TEXT:
VERSION:2.0
METHOD:PUBLISH
BEGIN:VTIMEZONE
TZID:GMT
BEGIN:STANDARD
DTSTART:19390101T000000
TZOFFSETFROM:+0000
TZOFFSETTO:+0000
TZNAME:GMT
END:STANDARD
END:VTIMEZONE
BEGIN:VEVENT
DTSTART:20110817T093000Z
DTEND:20110817T103000Z
LOCATION:長崎県東京産業支援センター１階会議室（四ツ谷）
TRANSP:OPAQUE
SEQUENCE:0
UID:pical060-d1616ace8d35a506f13b9ad8c0b7690e
DTSTAMP:20110603T123447Z
CATEGORIES:
DESCRIPTION:
SUMMARY:第５回幹事会
PRIORITY:0
CLASS:PUBLIC
END:VEVENT
END:VCALENDAR
