BEGIN:VCALENDAR
CALSCALE:GREGORIAN
X-WR-TIMEZONE;VALUE=TEXT:GMT
PRODID:PEAK Corporation - piCal -
X-WR-CALNAME;VALUE=TEXT:
VERSION:2.0
METHOD:PUBLISH
BEGIN:VTIMEZONE
TZID:GMT
BEGIN:STANDARD
DTSTART:19390101T000000
TZOFFSETFROM:+0000
TZOFFSETTO:+0000
TZNAME:GMT
END:STANDARD
END:VTIMEZONE
BEGIN:VEVENT
DTSTART:20110716T010000Z
DTEND:20110716T060000Z
LOCATION:長崎県東京産業支援センター１階会議室（四ツ谷）
TRANSP:OPAQUE
SEQUENCE:0
UID:pical060-d0bc4875d1c0d686ffbc23f480897066
DTSTAMP:20110603T123234Z
CATEGORIES:
DESCRIPTION:
SUMMARY:総会案内・コミュニテイ発送作業日
PRIORITY:0
CLASS:PUBLIC
END:VEVENT
END:VCALENDAR
