BEGIN:VCALENDAR
CALSCALE:GREGORIAN
X-WR-TIMEZONE;VALUE=TEXT:GMT
PRODID:PEAK Corporation - piCal -
X-WR-CALNAME;VALUE=TEXT:
VERSION:2.0
METHOD:PUBLISH
BEGIN:VTIMEZONE
TZID:GMT
BEGIN:STANDARD
DTSTART:19390101T000000
TZOFFSETFROM:+0000
TZOFFSETTO:+0000
TZNAME:GMT
END:STANDARD
END:VTIMEZONE
BEGIN:VEVENT
DTSTART;VALUE=DATE:20110429
DTEND;VALUE=DATE:20110430
LOCATION:多摩川六郷土手河川敷公園（京急六郷土手駅改札出て左道なり歩約１０分）
TRANSP:OPAQUE
SEQUENCE:0
UID:pical060-2c20603763d7482dc27f52109f00f29a
DTSTAMP:20110603T122422Z
CATEGORIES:
DESCRIPTION:
SUMMARY:長崎ハタ揚げ大会
PRIORITY:0
CLASS:PUBLIC
END:VEVENT
END:VCALENDAR
