BEGIN:VCALENDAR
CALSCALE:GREGORIAN
X-WR-TIMEZONE;VALUE=TEXT:GMT
PRODID:PEAK Corporation - piCal -
X-WR-CALNAME;VALUE=TEXT:
VERSION:2.0
METHOD:PUBLISH
BEGIN:VTIMEZONE
TZID:GMT
BEGIN:STANDARD
DTSTART:19390101T000000
TZOFFSETFROM:+0000
TZOFFSETTO:+0000
TZNAME:GMT
END:STANDARD
END:VTIMEZONE
BEGIN:VEVENT
DTSTART:20101203T100000Z
DTEND:20101203T120000Z
LOCATION:ＮＥＣ芝クラブ
TRANSP:OPAQUE
SEQUENCE:1
UID:pical060-f4160cbd681b66102cf3bac8d8666c56
DTSTAMP:20101108T161649Z
CATEGORIES:
DESCRIPTION:
SUMMARY:第７回幹事会（兼忘年会）
PRIORITY:0
CLASS:PUBLIC
END:VEVENT
END:VCALENDAR
