BEGIN:VCALENDAR
CALSCALE:GREGORIAN
X-WR-TIMEZONE;VALUE=TEXT:GMT
PRODID:PEAK Corporation - piCal -
X-WR-CALNAME;VALUE=TEXT:
VERSION:2.0
METHOD:PUBLISH
BEGIN:VTIMEZONE
TZID:GMT
BEGIN:STANDARD
DTSTART:19390101T000000
TZOFFSETFROM:+0000
TZOFFSETTO:+0000
TZNAME:GMT
END:STANDARD
END:VTIMEZONE
BEGIN:VEVENT
DTSTART:20100731T013000Z
DTEND:20100731T060000Z
LOCATION:長崎県東京産業支援センター１階会議室（四ツ谷）
TRANSP:OPAQUE
SEQUENCE:1
UID:pical060-9da00dd5e425b219617fbb386d73cb64
DTSTAMP:20100302T131649Z
CATEGORIES:
DESCRIPTION:メンバーは執行部、常任幹事、当番幹事回生、ほか有志
SUMMARY:総会案内・コミュニテイ発送作業日
PRIORITY:0
CLASS:PUBLIC
END:VEVENT
END:VCALENDAR
