BEGIN:VCALENDAR
CALSCALE:GREGORIAN
X-WR-TIMEZONE;VALUE=TEXT:GMT
PRODID:PEAK Corporation - piCal -
X-WR-CALNAME;VALUE=TEXT:
VERSION:2.0
METHOD:PUBLISH
BEGIN:VTIMEZONE
TZID:GMT
BEGIN:STANDARD
DTSTART:19390101T000000
TZOFFSETFROM:+0000
TZOFFSETTO:+0000
TZNAME:GMT
END:STANDARD
END:VTIMEZONE
BEGIN:VEVENT
DTSTART:20100625T150000Z
DTEND:20100625T150000Z
LOCATION:追って掲載
TRANSP:OPAQUE
SEQUENCE:0
UID:pical060-49275d7ebd24f031844c699ae8301058
DTSTAMP:20100217T161241Z
CATEGORIES:
DESCRIPTION:
SUMMARY:ピュアエイジクラブ（予定）
PRIORITY:0
CLASS:PUBLIC
END:VEVENT
END:VCALENDAR
