BEGIN:VCALENDAR
CALSCALE:GREGORIAN
X-WR-TIMEZONE;VALUE=TEXT:GMT
PRODID:PEAK Corporation - piCal -
X-WR-CALNAME;VALUE=TEXT:
VERSION:2.0
METHOD:PUBLISH
BEGIN:VTIMEZONE
TZID:GMT
BEGIN:STANDARD
DTSTART:19390101T000000
TZOFFSETFROM:+0000
TZOFFSETTO:+0000
TZNAME:GMT
END:STANDARD
END:VTIMEZONE
BEGIN:VEVENT
DTSTART:20100222T094500Z
DTEND:20100222T113000Z
LOCATION:長崎県人クラブ事務所
TRANSP:OPAQUE
SEQUENCE:2
UID:pical060-8d08b26055d661d60bdba8dc19640920
DTSTAMP:20100217T155649Z
CATEGORIES:
DESCRIPTION:
SUMMARY:常任幹事会
PRIORITY:0
CLASS:PUBLIC
END:VEVENT
END:VCALENDAR
