BEGIN:VCALENDAR
CALSCALE:GREGORIAN
X-WR-TIMEZONE;VALUE=TEXT:GMT
PRODID:PEAK Corporation - piCal -
X-WR-CALNAME;VALUE=TEXT:
VERSION:2.0
METHOD:PUBLISH
BEGIN:VTIMEZONE
TZID:GMT
BEGIN:STANDARD
DTSTART:19390101T000000
TZOFFSETFROM:+0000
TZOFFSETTO:+0000
TZNAME:GMT
END:STANDARD
END:VTIMEZONE
BEGIN:VEVENT
DTSTART:20090429T003000Z
DTEND:20090429T053000Z
LOCATION:多摩川六郷土手河川敷（最寄駅：京浜急行六郷土手駅）
TRANSP:OPAQUE
SEQUENCE:4
UID:pical060-f3d00af30b62b809fea088657ff6db3b
DTSTAMP:20090310T131817Z
CATEGORIES:
DESCRIPTION:ビードロ会（長崎市人会）主催の恒例長崎ハタ揚げ大会が今年も多摩川六郷土手河川敷で開催されます。\nうららかな春の一日、懐かしい赤青白のオランダ国旗色の長崎ハタ（凧）が六郷土手の空に舞います。\nビール、お酒にチャンポン、皿うどん、大村寿司、あご焼き、長崎蒲鉾などのテント店も出ます。\n本場長崎ハタも凧糸も現地で販売しています。\n（小は１００円、大は１５００円、糸３００円）\nお子さん、お孫さんはきっと大喜び。もちろん、大人も童心に帰って十分楽しめます。\n予約は要りません。直接ぶらりおいでください。\n\n【会場への行き方】\n京浜急行六郷土手駅の改札を出て正面の道路を左へ道なりに行けば１０分ほどで多摩川の土手にぶつかります。土手を越えた辺りが会場になります。\n空に舞うハタと各校在京同窓会の幟が目印です。\n
SUMMARY:長崎ハタ揚げ大会
PRIORITY:0
CLASS:PUBLIC
END:VEVENT
END:VCALENDAR
