BEGIN:VCALENDAR
CALSCALE:GREGORIAN
X-WR-TIMEZONE;VALUE=TEXT:GMT
PRODID:PEAK Corporation - piCal -
X-WR-CALNAME;VALUE=TEXT:
VERSION:2.0
METHOD:PUBLISH
BEGIN:VTIMEZONE
TZID:GMT
BEGIN:STANDARD
DTSTART:19390101T000000
TZOFFSETFROM:+0000
TZOFFSETTO:+0000
TZNAME:GMT
END:STANDARD
END:VTIMEZONE
BEGIN:VEVENT
DTSTART:20091031T060000Z
DTEND:20091031T080000Z
LOCATION:ホテルメトロポリタンエドモントー「悠久」の間（飯田橋）
TRANSP:OPAQUE
SEQUENCE:1
UID:pical060-2792d7d4679c29c1ad72f0014f622e24
DTSTAMP:20090309T133331Z
CATEGORIES:
DESCRIPTION:
SUMMARY:第３６回総会・懇親会
PRIORITY:0
CLASS:PUBLIC
END:VEVENT
END:VCALENDAR
