BEGIN:VCALENDAR
CALSCALE:GREGORIAN
X-WR-TIMEZONE;VALUE=TEXT:GMT
PRODID:PEAK Corporation - piCal -
X-WR-CALNAME;VALUE=TEXT:
VERSION:2.0
METHOD:PUBLISH
BEGIN:VTIMEZONE
TZID:GMT
BEGIN:STANDARD
DTSTART:19390101T000000
TZOFFSETFROM:+0000
TZOFFSETTO:+0000
TZNAME:GMT
END:STANDARD
END:VTIMEZONE
BEGIN:VEVENT
DTSTART:20091019T093000Z
DTEND:20091019T103000Z
LOCATION:長崎県東京産業支援センター（四ツ谷）
TRANSP:OPAQUE
SEQUENCE:1
UID:pical060-e7a59dfe7460832608ed3773e60a03f8
DTSTAMP:20090701T143009Z
CATEGORIES:
DESCRIPTION:
SUMMARY:第６回幹事会
PRIORITY:0
CLASS:PUBLIC
END:VEVENT
END:VCALENDAR
