BEGIN:VCALENDAR
CALSCALE:GREGORIAN
X-WR-TIMEZONE;VALUE=TEXT:GMT
PRODID:PEAK Corporation - piCal -
X-WR-CALNAME;VALUE=TEXT:
VERSION:2.0
METHOD:PUBLISH
BEGIN:VTIMEZONE
TZID:GMT
BEGIN:STANDARD
DTSTART:19390101T000000
TZOFFSETFROM:+0000
TZOFFSETTO:+0000
TZNAME:GMT
END:STANDARD
END:VTIMEZONE
BEGIN:VEVENT
DTSTART:20090727T093000Z
DTEND:20090727T103000Z
LOCATION:長崎県東京産業支援センター（四ツ谷）
TRANSP:OPAQUE
SEQUENCE:0
UID:pical060-2306fa34f5d0c02a2e278645a7571e68
DTSTAMP:20090309T132512Z
CATEGORIES:
DESCRIPTION:
SUMMARY:第４回幹事会
PRIORITY:0
CLASS:PUBLIC
END:VEVENT
END:VCALENDAR
