BEGIN:VCALENDAR
CALSCALE:GREGORIAN
X-WR-TIMEZONE;VALUE=TEXT:GMT
PRODID:PEAK Corporation - piCal -
X-WR-CALNAME;VALUE=TEXT:
VERSION:2.0
METHOD:PUBLISH
BEGIN:VTIMEZONE
TZID:GMT
BEGIN:STANDARD
DTSTART:19390101T000000
TZOFFSETFROM:+0000
TZOFFSETTO:+0000
TZNAME:GMT
END:STANDARD
END:VTIMEZONE
BEGIN:VEVENT
DTSTART:20081201T093000Z
DTEND:20081201T113000Z
LOCATION:笹川記念会館
TRANSP:OPAQUE
SEQUENCE:1
UID:pical060-c41f59c7ef85f6389e585ffb26601155
DTSTAMP:20081115T222712Z
CATEGORIES:
DESCRIPTION:
SUMMARY:H20年総会打上げ
PRIORITY:0
CLASS:PUBLIC
END:VEVENT
END:VCALENDAR
