BEGIN:VCALENDAR
CALSCALE:GREGORIAN
X-WR-TIMEZONE;VALUE=TEXT:GMT
PRODID:PEAK Corporation - piCal -
X-WR-CALNAME;VALUE=TEXT:
VERSION:2.0
METHOD:PUBLISH
BEGIN:VTIMEZONE
TZID:GMT
BEGIN:STANDARD
DTSTART:19390101T000000
TZOFFSETFROM:+0000
TZOFFSETTO:+0000
TZNAME:GMT
END:STANDARD
END:VTIMEZONE
BEGIN:VEVENT
DTSTART:20080705T040000Z
DTEND:20080705T070000Z
LOCATION:県人クラブ会議室
TRANSP:OPAQUE
SEQUENCE:0
UID:pical060-a47085fcb490e2d95188fd07b7777b6b
DTSTAMP:20080623T135215Z
CATEGORIES:
DESCRIPTION:最終校正
SUMMARY:コミュニティ編集会議
PRIORITY:0
CLASS:PUBLIC
END:VEVENT
END:VCALENDAR
