BEGIN:VCALENDAR
CALSCALE:GREGORIAN
X-WR-TIMEZONE;VALUE=TEXT:GMT
PRODID:PEAK Corporation - piCal -
X-WR-CALNAME;VALUE=TEXT:
VERSION:2.0
METHOD:PUBLISH
BEGIN:VTIMEZONE
TZID:GMT
BEGIN:STANDARD
DTSTART:19390101T000000
TZOFFSETFROM:+0000
TZOFFSETTO:+0000
TZNAME:GMT
END:STANDARD
END:VTIMEZONE
BEGIN:VEVENT
DTSTART:20080726T000000Z
DTEND:20080726T080000Z
LOCATION:
TRANSP:OPAQUE
SEQUENCE:1
UID:pical060-5b347484817d9d9d4ea79e8d969f2577
DTSTAMP:20080620T085550Z
CATEGORIES:
DESCRIPTION:
SUMMARY:総会案内状・コミュニティ発送作業
PRIORITY:0
CLASS:PUBLIC
END:VEVENT
END:VCALENDAR
